Package: CIMICE Version: 1.12.0 Command: rm -rf CIMICE.buildbin-libdir && mkdir CIMICE.buildbin-libdir && /Users/biocbuild/BBS/utils/build-universal.sh CIMICE_1.12.0.tar.gz /Library/Frameworks/R.framework/Resources/bin/R CIMICE.buildbin-libdir StartedAt: 2024-10-17 15:51:30 -0400 (Thu, 17 Oct 2024) EndedAt: 2024-10-17 15:51:56 -0400 (Thu, 17 Oct 2024) EllapsedTime: 25.4 seconds RetCode: 0 Status: OK PackageFile: CIMICE_1.12.0.tgz PackageFileSize: 1.263 MiB