Package: CIMICE Version: 1.12.0 Command: /Library/Frameworks/R.framework/Resources/bin/R CMD INSTALL CIMICE StartedAt: 2024-10-16 17:59:51 -0400 (Wed, 16 Oct 2024) EndedAt: 2024-10-16 18:00:03 -0400 (Wed, 16 Oct 2024) EllapsedTime: 11.6 seconds RetCode: 0 Status: OK