Package: CIMICE Version: 1.12.0 Command: /Library/Frameworks/R.framework/Resources/bin/R CMD check --install=check:CIMICE.install-out.txt --library=/Library/Frameworks/R.framework/Resources/library --no-vignettes --timings CIMICE_1.12.0.tar.gz StartedAt: 2024-10-17 16:12:20 -0400 (Thu, 17 Oct 2024) EndedAt: 2024-10-17 16:14:02 -0400 (Thu, 17 Oct 2024) EllapsedTime: 102.0 seconds RetCode: 0 Status: OK CheckDir: CIMICE.Rcheck Warnings: 0