Package: CHRONOS Version: 1.32.0 Command: /Library/Frameworks/R.framework/Resources/bin/R CMD check --install=check:CHRONOS.install-out.txt --library=/Library/Frameworks/R.framework/Resources/library --no-vignettes --timings CHRONOS_1.32.0.tar.gz StartedAt: 2024-10-17 02:43:52 -0400 (Thu, 17 Oct 2024) EndedAt: 2024-10-17 02:50:24 -0400 (Thu, 17 Oct 2024) EllapsedTime: 392.8 seconds RetCode: 0 Status: OK CheckDir: CHRONOS.Rcheck Warnings: 0