Package: CHRONOS Version: 1.32.0 Command: /Library/Frameworks/R.framework/Resources/bin/R CMD check --install=check:CHRONOS.install-out.txt --library=/Library/Frameworks/R.framework/Resources/library --no-vignettes --timings CHRONOS_1.32.0.tar.gz StartedAt: 2024-06-09 19:25:02 -0400 (Sun, 09 Jun 2024) EndedAt: 2024-06-09 19:27:50 -0400 (Sun, 09 Jun 2024) EllapsedTime: 167.9 seconds RetCode: 0 Status: OK CheckDir: CHRONOS.Rcheck Warnings: 0