Package: CHRONOS Version: 1.32.0 Command: /Library/Frameworks/R.framework/Resources/bin/R CMD build --keep-empty-dirs --no-resave-data CHRONOS StartedAt: 2024-06-09 19:25:00 -0400 (Sun, 09 Jun 2024) EndedAt: 2024-06-09 20:05:01 -0400 (Sun, 09 Jun 2024) EllapsedTime: 2400.8 seconds RetCode: None Status: TIMEOUT PackageFile: None PackageFileSize: NA