Package: CHETAH Version: 1.20.0 Command: rm -rf CHETAH.buildbin-libdir && mkdir CHETAH.buildbin-libdir && E:\biocbuild\bbs-3.19-bioc\R\bin\R.exe CMD INSTALL --build --library=CHETAH.buildbin-libdir CHETAH_1.20.0.tar.gz StartedAt: 2024-10-17 07:31:21 -0400 (Thu, 17 Oct 2024) EndedAt: 2024-10-17 07:31:56 -0400 (Thu, 17 Oct 2024) EllapsedTime: 34.8 seconds RetCode: 0 Status: OK PackageFile: CHETAH_1.20.0.zip PackageFileSize: 3.235 MiB