Package: CHETAH Version: 1.20.0 Command: /Library/Frameworks/R.framework/Resources/bin/R CMD build --keep-empty-dirs --no-resave-data CHETAH StartedAt: 2024-10-16 17:52:41 -0400 (Wed, 16 Oct 2024) EndedAt: 2024-10-16 17:55:17 -0400 (Wed, 16 Oct 2024) EllapsedTime: 155.8 seconds RetCode: 0 Status: OK PackageFile: CHETAH_1.20.0.tar.gz PackageFileSize: 3.578 MiB