Package: CHETAH Version: 1.20.0 Command: /Library/Frameworks/R.framework/Resources/bin/R CMD INSTALL CHETAH StartedAt: 2024-10-16 17:26:43 -0400 (Wed, 16 Oct 2024) EndedAt: 2024-10-16 17:27:16 -0400 (Wed, 16 Oct 2024) EllapsedTime: 32.7 seconds RetCode: 0 Status: OK