Package: CHETAH Version: 1.20.0 Command: /Library/Frameworks/R.framework/Resources/bin/R CMD build --keep-empty-dirs --no-resave-data CHETAH StartedAt: 2024-10-16 21:16:42 -0400 (Wed, 16 Oct 2024) EndedAt: 2024-10-16 21:17:57 -0400 (Wed, 16 Oct 2024) EllapsedTime: 75.0 seconds RetCode: 0 Status: OK PackageFile: CHETAH_1.20.0.tar.gz PackageFileSize: 3.579 MiB