Package: CGHregions Version: 1.62.0 Command: /Library/Frameworks/R.framework/Resources/bin/R CMD build --keep-empty-dirs --no-resave-data CGHregions StartedAt: 2024-10-16 17:52:21 -0400 (Wed, 16 Oct 2024) EndedAt: 2024-10-16 17:52:49 -0400 (Wed, 16 Oct 2024) EllapsedTime: 28.4 seconds RetCode: 0 Status: OK PackageFile: CGHregions_1.62.0.tar.gz PackageFileSize: 213.5 KiB