Package: CGHregions Version: 1.62.0 Command: rm -rf CGHregions.buildbin-libdir && mkdir CGHregions.buildbin-libdir && /Users/biocbuild/BBS/utils/build-universal.sh CGHregions_1.62.0.tar.gz /Library/Frameworks/R.framework/Resources/bin/R CGHregions.buildbin-libdir StartedAt: 2024-10-17 15:49:53 -0400 (Thu, 17 Oct 2024) EndedAt: 2024-10-17 15:50:06 -0400 (Thu, 17 Oct 2024) EllapsedTime: 12.5 seconds RetCode: 0 Status: OK PackageFile: CGHregions_1.62.0.tgz PackageFileSize: 245.1 KiB