Package: CGHnormaliter Version: 1.58.0 Command: E:\biocbuild\bbs-3.19-bioc\R\bin\R.exe CMD INSTALL CGHnormaliter StartedAt: 2024-10-16 16:07:44 -0400 (Wed, 16 Oct 2024) EndedAt: 2024-10-16 16:07:51 -0400 (Wed, 16 Oct 2024) EllapsedTime: 7.2 seconds RetCode: 0 Status: OK