Package: CGHnormaliter Version: 1.58.0 Command: E:\biocbuild\bbs-3.19-bioc\R\bin\R.exe CMD check --no-multiarch --install=check:CGHnormaliter.install-out.txt --library=E:\biocbuild\bbs-3.19-bioc\R\library --no-vignettes --timings CGHnormaliter_1.58.0.tar.gz StartedAt: 2024-10-16 23:54:21 -0400 (Wed, 16 Oct 2024) EndedAt: 2024-10-16 23:55:59 -0400 (Wed, 16 Oct 2024) EllapsedTime: 97.9 seconds RetCode: 0 Status: OK CheckDir: CGHnormaliter.Rcheck Warnings: 0