Package: CGHnormaliter Version: 1.58.0 Command: rm -rf CGHnormaliter.buildbin-libdir && mkdir CGHnormaliter.buildbin-libdir && E:\biocbuild\bbs-3.19-bioc\R\bin\R.exe CMD INSTALL --build --library=CGHnormaliter.buildbin-libdir CGHnormaliter_1.58.0.tar.gz StartedAt: 2024-10-17 07:31:09 -0400 (Thu, 17 Oct 2024) EndedAt: 2024-10-17 07:31:23 -0400 (Thu, 17 Oct 2024) EllapsedTime: 14.3 seconds RetCode: 0 Status: OK PackageFile: CGHnormaliter_1.58.0.zip PackageFileSize: 1.146 MiB