Package: CGHnormaliter Version: 1.58.0 Command: /home/biocbuild/bbs-3.19-bioc/R/bin/R CMD check --install=check:CGHnormaliter.install-out.txt --library=/home/biocbuild/bbs-3.19-bioc/R/site-library --timings CGHnormaliter_1.58.0.tar.gz StartedAt: 2024-10-16 22:39:36 -0400 (Wed, 16 Oct 2024) EndedAt: 2024-10-16 22:41:40 -0400 (Wed, 16 Oct 2024) EllapsedTime: 124.2 seconds RetCode: 0 Status: OK CheckDir: CGHnormaliter.Rcheck Warnings: 0