Package: CGHnormaliter Version: 1.58.0 Command: /Library/Frameworks/R.framework/Resources/bin/R CMD INSTALL CGHnormaliter StartedAt: 2024-10-16 15:50:53 -0400 (Wed, 16 Oct 2024) EndedAt: 2024-10-16 15:50:58 -0400 (Wed, 16 Oct 2024) EllapsedTime: 5.8 seconds RetCode: 0 Status: OK