Package: CGHnormaliter Version: 1.58.0 Command: /Library/Frameworks/R.framework/Resources/bin/R CMD build --keep-empty-dirs --no-resave-data CGHnormaliter StartedAt: 2024-10-16 21:15:24 -0400 (Wed, 16 Oct 2024) EndedAt: 2024-10-16 21:16:36 -0400 (Wed, 16 Oct 2024) EllapsedTime: 71.9 seconds RetCode: 0 Status: OK PackageFile: CGHnormaliter_1.58.0.tar.gz PackageFileSize: 1.245 MiB