Package: CGHnormaliter Version: 1.58.0 Maintainer: Bart P.P. van Houte MaintainerEmail: bvhoute at few.vu.nl git_url: https://git.bioconductor.org/packages/CGHnormaliter git_branch: RELEASE_3_19 git_last_commit: b59cc3d git_last_commit_date: 2024-04-30 10:20:43 -0400 (Tue, 30 Apr 2024)