Package: CGHcall Version: 2.66.0 Command: /Library/Frameworks/R.framework/Resources/bin/R CMD check --install=check:CGHcall.install-out.txt --library=/Library/Frameworks/R.framework/Resources/library --no-vignettes --timings CGHcall_2.66.0.tar.gz StartedAt: 2024-10-17 15:45:21 -0400 (Thu, 17 Oct 2024) EndedAt: 2024-10-17 15:46:16 -0400 (Thu, 17 Oct 2024) EllapsedTime: 54.4 seconds RetCode: 0 Status: WARNINGS CheckDir: CGHcall.Rcheck Warnings: 1