Package: CGHcall Version: 2.66.0 Command: /Library/Frameworks/R.framework/Resources/bin/R CMD build --keep-empty-dirs --no-resave-data CGHcall StartedAt: 2024-10-16 21:14:49 -0400 (Wed, 16 Oct 2024) EndedAt: 2024-10-16 21:15:10 -0400 (Wed, 16 Oct 2024) EllapsedTime: 21.6 seconds RetCode: 0 Status: OK PackageFile: CGHcall_2.66.0.tar.gz PackageFileSize: 451.8 KiB