Package: CGHcall Version: 2.66.0 Command: rm -rf CGHcall.buildbin-libdir && mkdir CGHcall.buildbin-libdir && /Users/biocbuild/BBS/utils/build-universal.sh CGHcall_2.66.0.tar.gz /Library/Frameworks/R.framework/Resources/bin/R CGHcall.buildbin-libdir StartedAt: 2024-10-18 17:43:19 -0400 (Fri, 18 Oct 2024) EndedAt: 2024-10-18 17:43:27 -0400 (Fri, 18 Oct 2024) EllapsedTime: 8.0 seconds RetCode: 0 Status: OK PackageFile: CGHcall_2.66.0.tgz PackageFileSize: 533.5 KiB