Package: CGHbase Version: 1.64.0 Command: E:\biocbuild\bbs-3.19-bioc\R\bin\R.exe CMD check --no-multiarch --install=check:CGHbase.install-out.txt --library=E:\biocbuild\bbs-3.19-bioc\R\library --no-vignettes --timings CGHbase_1.64.0.tar.gz StartedAt: 2024-10-16 23:53:38 -0400 (Wed, 16 Oct 2024) EndedAt: 2024-10-16 23:54:30 -0400 (Wed, 16 Oct 2024) EllapsedTime: 51.8 seconds RetCode: 0 Status: OK CheckDir: CGHbase.Rcheck Warnings: 0