Package: CGHbase Version: 1.64.0 Command: chmod a+r CGHbase -R && F:\biocbuild\bbs-3.19-bioc\R\bin\R.exe CMD build --keep-empty-dirs --no-resave-data CGHbase StartedAt: 2024-06-26 17:44:20 -0400 (Wed, 26 Jun 2024) EndedAt: 2024-06-26 17:44:23 -0400 (Wed, 26 Jun 2024) EllapsedTime: 3.0 seconds RetCode: 0 Status: OK PackageFile: CGHbase_1.64.0.tar.gz PackageFileSize: 847.9 KiB