Package: CGHbase Version: 1.64.0 Command: rm -rf CGHbase.buildbin-libdir && mkdir CGHbase.buildbin-libdir && F:\biocbuild\bbs-3.19-bioc\R\bin\R.exe CMD INSTALL --build --library=CGHbase.buildbin-libdir CGHbase_1.64.0.tar.gz StartedAt: 2024-06-27 07:58:28 -0400 (Thu, 27 Jun 2024) EndedAt: 2024-06-27 07:58:43 -0400 (Thu, 27 Jun 2024) EllapsedTime: 15.4 seconds RetCode: 0 Status: OK PackageFile: CGHbase_1.64.0.zip PackageFileSize: 1.059 MiB