Package: CGHbase Version: 1.64.0 Command: /Library/Frameworks/R.framework/Resources/bin/R CMD INSTALL CGHbase StartedAt: 2024-06-09 15:07:19 -0400 (Sun, 09 Jun 2024) EndedAt: 2024-06-09 15:07:50 -0400 (Sun, 09 Jun 2024) EllapsedTime: 30.6 seconds RetCode: 0 Status: OK