Package: CGHbase Version: 1.64.0 Command: rm -rf CGHbase.buildbin-libdir && mkdir CGHbase.buildbin-libdir && /Users/biocbuild/BBS/utils/build-universal.sh CGHbase_1.64.0.tar.gz /Library/Frameworks/R.framework/Resources/bin/R CGHbase.buildbin-libdir StartedAt: 2024-10-18 17:43:12 -0400 (Fri, 18 Oct 2024) EndedAt: 2024-10-18 17:43:19 -0400 (Fri, 18 Oct 2024) EllapsedTime: 6.8 seconds RetCode: 0 Status: OK PackageFile: CGHbase_1.64.0.tgz PackageFileSize: 1.058 MiB