Package: CGHbase Version: 1.64.0 Maintainer: Mark van de Wiel MaintainerEmail: mark.vdwiel at vumc.nl git_url: https://git.bioconductor.org/packages/CGHbase git_branch: RELEASE_3_19 git_last_commit: d575384 git_last_commit_date: 2024-04-30 10:18:06 -0400 (Tue, 30 Apr 2024)