Package: CGEN Version: 3.40.0 Command: F:\biocbuild\bbs-3.19-bioc\R\bin\R.exe CMD check --no-multiarch --install=check:CGEN.install-out.txt --library=F:\biocbuild\bbs-3.19-bioc\R\library --no-vignettes --timings CGEN_3.40.0.tar.gz StartedAt: 2024-06-26 23:57:38 -0400 (Wed, 26 Jun 2024) EndedAt: 2024-06-27 00:01:16 -0400 (Thu, 27 Jun 2024) EllapsedTime: 217.6 seconds RetCode: 0 Status: OK CheckDir: CGEN.Rcheck Warnings: 0