Package: CGEN Version: 3.40.0 Command: /home/biocbuild/bbs-3.19-bioc/R/bin/R CMD build --keep-empty-dirs --no-resave-data CGEN StartedAt: 2024-10-16 17:39:05 -0400 (Wed, 16 Oct 2024) EndedAt: 2024-10-16 17:39:46 -0400 (Wed, 16 Oct 2024) EllapsedTime: 41.1 seconds RetCode: 0 Status: OK PackageFile: CGEN_3.40.0.tar.gz PackageFileSize: 819.6 KiB