Package: CGEN Version: 3.40.0 Command: rm -rf CGEN.buildbin-libdir && mkdir CGEN.buildbin-libdir && /Users/biocbuild/BBS/utils/build-universal.sh CGEN_3.40.0.tar.gz /Library/Frameworks/R.framework/Resources/bin/R CGEN.buildbin-libdir StartedAt: 2024-10-17 15:49:36 -0400 (Thu, 17 Oct 2024) EndedAt: 2024-10-17 15:50:47 -0400 (Thu, 17 Oct 2024) EllapsedTime: 71.1 seconds RetCode: 0 Status: OK PackageFile: CGEN_3.40.0.tgz PackageFileSize: 1.938 MiB