Package: CGEN Version: 3.40.0 Command: rm -rf CGEN.buildbin-libdir && mkdir CGEN.buildbin-libdir && /Users/biocbuild/BBS/utils/build-universal.sh CGEN_3.40.0.tar.gz /Library/Frameworks/R.framework/Resources/bin/R CGEN.buildbin-libdir StartedAt: 2024-06-10 00:10:47 -0400 (Mon, 10 Jun 2024) EndedAt: 2024-06-10 00:11:23 -0400 (Mon, 10 Jun 2024) EllapsedTime: 36.0 seconds RetCode: 0 Status: OK PackageFile: CGEN_3.40.0.tgz PackageFileSize: 1.936 MiB