Package: CGEN Version: 3.40.0 Command: /Library/Frameworks/R.framework/Resources/bin/R CMD INSTALL CGEN StartedAt: 2024-10-16 18:02:06 -0400 (Wed, 16 Oct 2024) EndedAt: 2024-10-16 18:02:32 -0400 (Wed, 16 Oct 2024) EllapsedTime: 25.7 seconds RetCode: 0 Status: OK