Package: CEMiTool Version: 1.28.0 Command: E:\biocbuild\bbs-3.19-bioc\R\bin\R.exe CMD INSTALL CEMiTool StartedAt: 2024-10-16 17:00:42 -0400 (Wed, 16 Oct 2024) EndedAt: 2024-10-16 17:01:42 -0400 (Wed, 16 Oct 2024) EllapsedTime: 60.1 seconds RetCode: 0 Status: OK