Package: CEMiTool Version: 1.28.0 Command: chmod a+r CEMiTool -R && E:\biocbuild\bbs-3.19-bioc\R\bin\R.exe CMD build --keep-empty-dirs --no-resave-data CEMiTool StartedAt: 2024-10-16 18:06:46 -0400 (Wed, 16 Oct 2024) EndedAt: 2024-10-16 18:14:30 -0400 (Wed, 16 Oct 2024) EllapsedTime: 464.2 seconds RetCode: 0 Status: OK PackageFile: CEMiTool_1.28.0.tar.gz PackageFileSize: 4.561 MiB