Package: CEMiTool Version: 1.28.0 Command: rm -rf CEMiTool.buildbin-libdir && mkdir CEMiTool.buildbin-libdir && E:\biocbuild\bbs-3.19-bioc\R\bin\R.exe CMD INSTALL --build --library=CEMiTool.buildbin-libdir CEMiTool_1.28.0.tar.gz StartedAt: 2024-10-17 07:30:37 -0400 (Thu, 17 Oct 2024) EndedAt: 2024-10-17 07:31:36 -0400 (Thu, 17 Oct 2024) EllapsedTime: 59.2 seconds RetCode: 0 Status: OK PackageFile: CEMiTool_1.28.0.zip PackageFileSize: 5.07 MiB