Package: CEMiTool Version: 1.28.0 Command: rm -rf CEMiTool.buildbin-libdir && mkdir CEMiTool.buildbin-libdir && F:\biocbuild\bbs-3.19-bioc\R\bin\R.exe CMD INSTALL --build --library=CEMiTool.buildbin-libdir CEMiTool_1.28.0.tar.gz StartedAt: 2024-06-27 07:58:09 -0400 (Thu, 27 Jun 2024) EndedAt: 2024-06-27 07:59:01 -0400 (Thu, 27 Jun 2024) EllapsedTime: 51.9 seconds RetCode: 0 Status: OK PackageFile: CEMiTool_1.28.0.zip PackageFileSize: 5.068 MiB