Package: CEMiTool Version: 1.28.0 Command: /home/biocbuild/R/R-beta-2024-04-15_r86425/bin/R CMD INSTALL CEMiTool StartedAt: 2024-05-08 20:50:43 -0000 (Wed, 08 May 2024) EndedAt: 2024-05-08 20:51:22 -0000 (Wed, 08 May 2024) EllapsedTime: 38.5 seconds RetCode: 0 Status: OK