Package: CEMiTool Version: 1.28.0 Command: /home/biocbuild/R/R-beta-2024-04-15_r86425/bin/R CMD build --keep-empty-dirs --no-resave-data CEMiTool StartedAt: 2024-05-08 23:10:51 -0000 (Wed, 08 May 2024) EndedAt: 2024-05-08 23:13:00 -0000 (Wed, 08 May 2024) EllapsedTime: 129.2 seconds RetCode: 0 Status: OK PackageFile: CEMiTool_1.28.0.tar.gz PackageFileSize: 4.759 MiB