Package: CEMiTool Version: 1.28.0 Command: /Library/Frameworks/R.framework/Resources/bin/R CMD INSTALL CEMiTool StartedAt: 2024-06-09 16:57:55 -0400 (Sun, 09 Jun 2024) EndedAt: 2024-06-09 16:58:30 -0400 (Sun, 09 Jun 2024) EllapsedTime: 35.3 seconds RetCode: 0 Status: OK