Package: CEMiTool Version: 1.28.0 Command: /Library/Frameworks/R.framework/Resources/bin/R CMD build --keep-empty-dirs --no-resave-data CEMiTool StartedAt: 2024-06-09 19:13:56 -0400 (Sun, 09 Jun 2024) EndedAt: 2024-06-09 19:16:03 -0400 (Sun, 09 Jun 2024) EllapsedTime: 127.1 seconds RetCode: 0 Status: OK PackageFile: CEMiTool_1.28.0.tar.gz PackageFileSize: 5.635 MiB