Package: CEMiTool Version: 1.28.0 Command: rm -rf CEMiTool.buildbin-libdir && mkdir CEMiTool.buildbin-libdir && /Users/biocbuild/BBS/utils/build-universal.sh CEMiTool_1.28.0.tar.gz /Library/Frameworks/R.framework/Resources/bin/R CEMiTool.buildbin-libdir StartedAt: 2024-06-11 10:30:29 -0400 (Tue, 11 Jun 2024) EndedAt: 2024-06-11 10:31:25 -0400 (Tue, 11 Jun 2024) EllapsedTime: 56.5 seconds RetCode: 0 Status: OK PackageFile: CEMiTool_1.28.0.tgz PackageFileSize: 6.146 MiB