Package: CEMiTool Version: 1.28.0 Command: /Library/Frameworks/R.framework/Resources/bin/R CMD INSTALL CEMiTool StartedAt: 2024-10-16 18:00:58 -0400 (Wed, 16 Oct 2024) EndedAt: 2024-10-16 18:01:31 -0400 (Wed, 16 Oct 2024) EllapsedTime: 33.4 seconds RetCode: 0 Status: OK