Package: CEMiTool Version: 1.28.0 Command: rm -rf CEMiTool.buildbin-libdir && mkdir CEMiTool.buildbin-libdir && /Users/biocbuild/BBS/utils/build-universal.sh CEMiTool_1.28.0.tar.gz /Library/Frameworks/R.framework/Resources/bin/R CEMiTool.buildbin-libdir StartedAt: 2024-10-18 17:42:14 -0400 (Fri, 18 Oct 2024) EndedAt: 2024-10-18 17:42:53 -0400 (Fri, 18 Oct 2024) EllapsedTime: 38.6 seconds RetCode: 0 Status: OK PackageFile: CEMiTool_1.28.0.tgz PackageFileSize: 6.158 MiB