Package: CDI Version: 1.2.0 Command: E:\biocbuild\bbs-3.19-bioc\R\bin\R.exe CMD check --no-multiarch --install=check:CDI.install-out.txt --library=E:\biocbuild\bbs-3.19-bioc\R\library --no-vignettes --timings CDI_1.2.0.tar.gz StartedAt: 2024-10-16 23:47:49 -0400 (Wed, 16 Oct 2024) EndedAt: 2024-10-16 23:52:59 -0400 (Wed, 16 Oct 2024) EllapsedTime: 309.8 seconds RetCode: 0 Status: OK CheckDir: CDI.Rcheck Warnings: 0