Package: CDI Version: 1.2.0 Command: chmod a+r CDI -R && E:\biocbuild\bbs-3.19-bioc\R\bin\R.exe CMD build --keep-empty-dirs --no-resave-data CDI StartedAt: 2024-10-16 18:03:48 -0400 (Wed, 16 Oct 2024) EndedAt: 2024-10-16 18:17:24 -0400 (Wed, 16 Oct 2024) EllapsedTime: 815.8 seconds RetCode: 0 Status: OK PackageFile: CDI_1.2.0.tar.gz PackageFileSize: 1.812 MiB