Package: CDI Version: 1.2.0 Command: /home/biocbuild/bbs-3.19-bioc/R/bin/R CMD INSTALL CDI StartedAt: 2024-10-16 16:43:32 -0400 (Wed, 16 Oct 2024) EndedAt: 2024-10-16 16:44:07 -0400 (Wed, 16 Oct 2024) EllapsedTime: 35.4 seconds RetCode: 0 Status: OK