Package: CDI Version: 1.2.0 Command: /home/biocbuild/bbs-3.19-bioc/R/bin/R CMD check --install=check:CDI.install-out.txt --library=/home/biocbuild/bbs-3.19-bioc/R/site-library --timings CDI_1.2.0.tar.gz StartedAt: 2024-10-16 22:32:09 -0400 (Wed, 16 Oct 2024) EndedAt: 2024-10-16 22:43:28 -0400 (Wed, 16 Oct 2024) EllapsedTime: 678.5 seconds RetCode: 0 Status: OK CheckDir: CDI.Rcheck Warnings: 0