Package: CDI Version: 1.2.0 Command: /home/biocbuild/bbs-3.19-bioc/R/bin/R CMD build --keep-empty-dirs --no-resave-data CDI StartedAt: 2024-10-16 17:32:45 -0400 (Wed, 16 Oct 2024) EndedAt: 2024-10-16 17:40:08 -0400 (Wed, 16 Oct 2024) EllapsedTime: 443.7 seconds RetCode: 0 Status: OK PackageFile: CDI_1.2.0.tar.gz PackageFileSize: 2.014 MiB