Package: CDI Version: 1.2.0 Command: /Library/Frameworks/R.framework/Resources/bin/R CMD check --install=check:CDI.install-out.txt --library=/Library/Frameworks/R.framework/Resources/library --no-vignettes --timings CDI_1.2.0.tar.gz StartedAt: 2024-10-17 15:21:11 -0400 (Thu, 17 Oct 2024) EndedAt: 2024-10-17 15:27:21 -0400 (Thu, 17 Oct 2024) EllapsedTime: 370.1 seconds RetCode: 0 Status: OK CheckDir: CDI.Rcheck Warnings: 0